BEGIN:VCALENDAR
VERSION:2.0
PRODID:-//PSG Institute of Oncology - ECPv6.15.20//NONSGML v1.0//EN
CALSCALE:GREGORIAN
METHOD:PUBLISH
X-WR-CALNAME:PSG Institute of Oncology
X-ORIGINAL-URL:https://oncology.psghospitals.com
X-WR-CALDESC:Events for PSG Institute of Oncology
REFRESH-INTERVAL;VALUE=DURATION:PT1H
X-Robots-Tag:noindex
X-PUBLISHED-TTL:PT1H
BEGIN:VTIMEZONE
TZID:UTC
BEGIN:STANDARD
TZOFFSETFROM:+0000
TZOFFSETTO:+0000
TZNAME:UTC
DTSTART:20240101T000000
END:STANDARD
END:VTIMEZONE
BEGIN:VEVENT
DTSTART;TZID=UTC:20260115T080000
DTEND;TZID=UTC:20260115T170000
DTSTAMP:20260422T210209
CREATED:20260115T045121Z
LAST-MODIFIED:20260115T045143Z
UID:14372-1768464000-1768496400@oncology.psghospitals.com
SUMMARY:Pongal Celebration at PSG Institute of Oncology | Coimbatore
DESCRIPTION:  \nPSG Institute of Oncology celebrated Pongal with staff and healthcare professionals\, promoting unity\, positivity\, and holistic cancer care. \nPSG Institute of Oncology celebrated the festival of Pongal with great enthusiasm and togetherness at our campus in Peelamedu\, Coimbatore. \nThe celebration reflected our commitment to fostering a positive and compassionate environment for our healthcare professionals\, patients\, and staff. \nThe event highlighted the importance of cultural traditions in promoting emotional well-being\, unity\, and hope—values that align closely with our approach to comprehensive cancer care. \nAt PSG Institute of Oncology\, we believe that healing goes beyond treatment\, and moments like these reinforce the spirit of care\, compassion\, and community.
URL:https://oncology.psghospitals.com/event/pongal-celebration-at-psg-institute-of-oncology-coimbatore/
LOCATION:peelamedu\, coimbatore\, coimbatore\, India
END:VEVENT
BEGIN:VEVENT
DTSTART;TZID=UTC:20260103T080000
DTEND;TZID=UTC:20260103T170000
DTSTAMP:20260422T210209
CREATED:20260103T055924Z
LAST-MODIFIED:20260103T055924Z
UID:14365-1767427200-1767459600@oncology.psghospitals.com
SUMMARY:Cervical Cancer Awareness Month 2026 | Prevention\, Screening & HPV Vaccination
DESCRIPTION:  \nPSG Institute of Oncology observes Cervical Cancer Awareness Month – January 2026\,\naiming to educate women about prevention\, early detection\, and lifesaving screening. \nCervical cancer is preventable and highly treatable when detected early.\nRegular screening and timely vaccination play a crucial role in saving lives. \nKey Preventive Measures:\n• HPV Vaccination (recommended for girls & women)\n• Regular Pap smear / HPV testing \nHPV Vaccination is available at PSG Institute of Oncology.
URL:https://oncology.psghospitals.com/event/cervical-cancer-awareness-month-2026-prevention-screening-hpv-vaccination/
END:VEVENT
BEGIN:VEVENT
DTSTART;TZID=UTC:20251029T080000
DTEND;TZID=UTC:20251029T170000
DTSTAMP:20260422T210209
CREATED:20251029T145040Z
LAST-MODIFIED:20251029T154716Z
UID:14332-1761724800-1761757200@oncology.psghospitals.com
SUMMARY:🎉 PSG Hospitals proudly inaugurated the Cancer Care Clinic at "B" Block
DESCRIPTION:  \nA significant step forward in our commitment to delivering comprehensive and compassionate healthcare to every patient — from early cancer detection and advanced treatment to specialized evening care for children. 💙👶🎗 \nThe Cancer Care Clinic offers multidisciplinary oncology services focused on personalized and holistic treatment\, while the Paediatric Evening Clinic provides convenient access to expert paediatric consultations beyond regular hours — ensuring every child receives the care they deserve. \nTogether\, these initiatives reflect PSG Hospitals’ mission of Care Built on Trust and Expertise. 🩺✨ \n#PSGHospitals #PSGInstituteOfOncology #CancerCareClinic #PaediatricEveningClinic #ComprehensiveCare #HealthcareExcellence #Oncology #CancerAwareness #ChildHealth #PaediatricCare #PSGHealthcare #PatientCare #InnovationInHealthcare #HopeAndHealing #PSGCentenaryCelebrations
URL:https://oncology.psghospitals.com/event/%f0%9f%8e%89-psg-hospitals-proudly-inaugurated-the-cancer-care-clinic-and-paediatric-evening-clinic/
LOCATION:coimbatore
END:VEVENT
END:VCALENDAR